BEGIN:VCALENDAR
VERSION:2.0
PRODID:-//Schachklub Schwäbisch Hall e.V. - ECPv6.15.20//NONSGML v1.0//EN
CALSCALE:GREGORIAN
METHOD:PUBLISH
X-WR-CALNAME:Schachklub Schwäbisch Hall e.V.
X-ORIGINAL-URL:https://www.schachklub-sha.de
X-WR-CALDESC:Veranstaltungen für Schachklub Schwäbisch Hall e.V.
REFRESH-INTERVAL;VALUE=DURATION:PT1H
X-Robots-Tag:noindex
X-PUBLISHED-TTL:PT1H
BEGIN:VTIMEZONE
TZID:Europe/Berlin
BEGIN:DAYLIGHT
TZOFFSETFROM:+0100
TZOFFSETTO:+0200
TZNAME:CEST
DTSTART:20220327T010000
END:DAYLIGHT
BEGIN:STANDARD
TZOFFSETFROM:+0200
TZOFFSETTO:+0100
TZNAME:CET
DTSTART:20221030T010000
END:STANDARD
BEGIN:DAYLIGHT
TZOFFSETFROM:+0100
TZOFFSETTO:+0200
TZNAME:CEST
DTSTART:20230326T010000
END:DAYLIGHT
BEGIN:STANDARD
TZOFFSETFROM:+0200
TZOFFSETTO:+0100
TZNAME:CET
DTSTART:20231029T010000
END:STANDARD
BEGIN:DAYLIGHT
TZOFFSETFROM:+0100
TZOFFSETTO:+0200
TZNAME:CEST
DTSTART:20240331T010000
END:DAYLIGHT
BEGIN:STANDARD
TZOFFSETFROM:+0200
TZOFFSETTO:+0100
TZNAME:CET
DTSTART:20241027T010000
END:STANDARD
END:VTIMEZONE
BEGIN:VEVENT
DTSTART;VALUE=DATE:20230429
DTEND;VALUE=DATE:20230502
DTSTAMP:20260423T000540
CREATED:20220703T171322Z
LAST-MODIFIED:20221026T140833Z
UID:6758-1682726400-1682985599@www.schachklub-sha.de
SUMMARY:Frauenbundesliga Endrunde (Bad Königshofen)
DESCRIPTION:
URL:https://www.schachklub-sha.de/event/frauenbundesliga-17/
CATEGORIES:Frauenbundesliga
END:VEVENT
BEGIN:VEVENT
DTSTART;TZID=Europe/Berlin:20230512T190000
DTEND;TZID=Europe/Berlin:20230512T210000
DTSTAMP:20260423T000540
CREATED:20230421T151215Z
LAST-MODIFIED:20230421T151500Z
UID:7584-1683918000-1683925200@www.schachklub-sha.de
SUMMARY:Hauptversammlung 2023
DESCRIPTION:Einladung
URL:https://www.schachklub-sha.de/event/hauptversammlung-2023/
CATEGORIES:Allgemein
END:VEVENT
END:VCALENDAR